Workbook

Sheet Calculator
A1: Sliding Fee Scale Calculator
A2: Enter client information | C2: Results
A3: Household size | B3: 1 | C3: 100% FPL baseline | D3: =IF(B3<=8,INDEX('FPL Guidelines'!$B$2:$D$9,MATCH(B3,'FPL Guidelines'!$A$2:$A$9,0),MATCH(B5,'FPL Guidelines'!$B$1:$D$1,0)),INDEX('FPL Guidelines'!$B$2:$D$9,7+1,MATCH(B5,'FPL Guidelines'!$B$1:$D$1,0))+(B3-8)*INDEX('FPL Guidelines'!$B$10:$D$10,1,MATCH(B5,'FPL Guidelines'!$B$1:$D$1,0))) -> 15960
A4: Gross annual income | B4: 41600 | C4: FPL percentage | D4: =IFERROR(B4/D3*100,0) -> 260.65163
A5: State/region | B5: 48 Contiguous States & DC | C5: FPL bracket | D5: =LOOKUP(D4,'Fee Schedule'!$A$2:$A$11,'Fee Schedule'!$C$2:$C$11) -> 251-275% FPL
A6: Income documentation on file? | B6: No | C6: Session fee | D6: =LOOKUP(D4,'Fee Schedule'!$A$2:$A$11,'Fee Schedule'!$D$2:$D$11) -> 95
A8: Instructions
A9: 1. Enter household size, gross annual income, and state/region.
A10: 2. The sheet calculates the client’s FPL percentage and recommended fee using the chart’s fee brackets.
A11: 3. Update the FPL Guidelines sheet each year when federal poverty guidelines change.
A14: Client/ID | B14: Household Size | C14: Gross Annual Income | D14: State/Region | E14: 100% FPL Baseline | F14: FPL % | G14: Bracket | H14: Fee | I14: Income Documentation
E15: =IF(OR(B15="",D15=""),"",IF(B15<=8,INDEX('FPL Guidelines'!$B$2:$D$9,MATCH(B15,'FPL Guidelines'!$A$2:$A$9,0),MATCH(D15,'FPL Guidelines'!$B$1:$D$1,0)),INDEX('FPL Guidelines'!$B$2:$D$9,8,MATCH(D15,'FPL Guidelines'!$B$1:$D$1,0))+(B15-8)*INDEX('FPL Guidelines'!$B$10:$D$10,1,MATCH(D15,'FPL Guidelines'!$B$1:$D$1,0)))) | F15: =IFERROR(C15/E15*100,"") | G15: =IF(F15="","",LOOKUP(F15,'Fee Schedule'!$A$2:$A$11,'Fee Schedule'!$C$2:$C$11)) | H15: =IF(F15="","",LOOKUP(F15,'Fee Schedule'!$A$2:$A$11,'Fee Schedule'!$D$2:$D$11))
E16: =IF(OR(B16="",D16=""),"",IF(B16<=8,INDEX('FPL Guidelines'!$B$2:$D$9,MATCH(B16,'FPL Guidelines'!$A$2:$A$9,0),MATCH(D16,'FPL Guidelines'!$B$1:$D$1,0)),INDEX('FPL Guidelines'!$B$2:$D$9,8,MATCH(D16,'FPL Guidelines'!$B$1:$D$1,0))+(B16-8)*INDEX('FPL Guidelines'!$B$10:$D$10,1,MATCH(D16,'FPL Guidelines'!$B$1:$D$1,0)))) | F16: =IFERROR(C16/E16*100,"") | G16: =IF(F16="","",LOOKUP(F16,'Fee Schedule'!$A$2:$A$11,'Fee Schedule'!$C$2:$C$11)) | H16: =IF(F16="","",LOOKUP(F16,'Fee Schedule'!$A$2:$A$11,'Fee Schedule'!$D$2:$D$11))
E17: =IF(OR(B17="",D17=""),"",IF(B17<=8,INDEX('FPL Guidelines'!$B$2:$D$9,MATCH(B17,'FPL Guidelines'!$A$2:$A$9,0),MATCH(D17,'FPL Guidelines'!$B$1:$D$1,0)),INDEX('FPL Guidelines'!$B$2:$D$9,8,MATCH(D17,'FPL Guidelines'!$B$1:$D$1,0))+(B17-8)*INDEX('FPL Guidelines'!$B$10:$D$10,1,MATCH(D17,'FPL Guidelines'!$B$1:$D$1,0)))) | F17: =IFERROR(C17/E17*100,"") | G17: =IF(F17="","",LOOKUP(F17,'Fee Schedule'!$A$2:$A$11,'Fee Schedule'!$C$2:$C$11)) | H17: =IF(F17="","",LOOKUP(F17,'Fee Schedule'!$A$2:$A$11,'Fee Schedule'!$D$2:$D$11))
E18: =IF(OR(B18="",D18=""),"",IF(B18<=8,INDEX('FPL Guidelines'!$B$2:$D$9,MATCH(B18,'FPL Guidelines'!$A$2:$A$9,0),MATCH(D18,'FPL Guidelines'!$B$1:$D$1,0)),INDEX('FPL Guidelines'!$B$2:$D$9,8,MATCH(D18,'FPL Guidelines'!$B$1:$D$1,0))+(B18-8)*INDEX('FPL Guidelines'!$B$10:$D$10,1,MATCH(D18,'FPL Guidelines'!$B$1:$D$1,0)))) | F18: =IFERROR(C18/E18*100,"") | G18: =IF(F18="","",LOOKUP(F18,'Fee Schedule'!$A$2:$A$11,'Fee Schedule'!$C$2:$C$11)) | H18: =IF(F18="","",LOOKUP(F18,'Fee Schedule'!$A$2:$A$11,'Fee Schedule'!$D$2:$D$11))
E19: =IF(OR(B19="",D19=""),"",IF(B19<=8,INDEX('FPL Guidelines'!$B$2:$D$9,MATCH(B19,'FPL Guidelines'!$A$2:$A$9,0),MATCH(D19,'FPL Guidelines'!$B$1:$D$1,0)),INDEX('FPL Guidelines'!$B$2:$D$9,8,MATCH(D19,'FPL Guidelines'!$B$1:$D$1,0))+(B19-8)*INDEX('FPL Guidelines'!$B$10:$D$10,1,MATCH(D19,'FPL Guidelines'!$B$1:$D$1,0)))) | F19: =IFERROR(C19/E19*100,"") | G19: =IF(F19="","",LOOKUP(F19,'Fee Schedule'!$A$2:$A$11,'Fee Schedule'!$C$2:$C$11)) | H19: =IF(F19="","",LOOKUP(F19,'Fee Schedule'!$A$2:$A$11,'Fee Schedule'!$D$2:$D$11))
E20: =IF(OR(B20="",D20=""),"",IF(B20<=8,INDEX('FPL Guidelines'!$B$2:$D$9,MATCH(B20,'FPL Guidelines'!$A$2:$A$9,0),MATCH(D20,'FPL Guidelines'!$B$1:$D$1,0)),INDEX('FPL Guidelines'!$B$2:$D$9,8,MATCH(D20,'FPL Guidelines'!$B$1:$D$1,0))+(B20-8)*INDEX('FPL Guidelines'!$B$10:$D$10,1,MATCH(D20,'FPL Guidelines'!$B$1:$D$1,0)))) | F20: =IFERROR(C20/E20*100,"") | G20: =IF(F20="","",LOOKUP(F20,'Fee Schedule'!$A$2:$A$11,'Fee Schedule'!$C$2:$C$11)) | H20: =IF(F20="","",LOOKUP(F20,'Fee Schedule'!$A$2:$A$11,'Fee Schedule'!$D$2:$D$11))
E21: =IF(OR(B21="",D21=""),"",IF(B21<=8,INDEX('FPL Guidelines'!$B$2:$D$9,MATCH(B21,'FPL Guidelines'!$A$2:$A$9,0),MATCH(D21,'FPL Guidelines'!$B$1:$D$1,0)),INDEX('FPL Guidelines'!$B$2:$D$9,8,MATCH(D21,'FPL Guidelines'!$B$1:$D$1,0))+(B21-8)*INDEX('FPL Guidelines'!$B$10:$D$10,1,MATCH(D21,'FPL Guidelines'!$B$1:$D$1,0)))) | F21: =IFERROR(C21/E21*100,"") | G21: =IF(F21="","",LOOKUP(F21,'Fee Schedule'!$A$2:$A$11,'Fee Schedule'!$C$2:$C$11)) | H21: =IF(F21="","",LOOKUP(F21,'Fee Schedule'!$A$2:$A$11,'Fee Schedule'!$D$2:$D$11))
E22: =IF(OR(B22="",D22=""),"",IF(B22<=8,INDEX('FPL Guidelines'!$B$2:$D$9,MATCH(B22,'FPL Guidelines'!$A$2:$A$9,0),MATCH(D22,'FPL Guidelines'!$B$1:$D$1,0)),INDEX('FPL Guidelines'!$B$2:$D$9,8,MATCH(D22,'FPL Guidelines'!$B$1:$D$1,0))+(B22-8)*INDEX('FPL Guidelines'!$B$10:$D$10,1,MATCH(D22,'FPL Guidelines'!$B$1:$D$1,0)))) | F22: =IFERROR(C22/E22*100,"") | G22: =IF(F22="","",LOOKUP(F22,'Fee Schedule'!$A$2:$A$11,'Fee Schedule'!$C$2:$C$11)) | H22: =IF(F22="","",LOOKUP(F22,'Fee Schedule'!$A$2:$A$11,'Fee Schedule'!$D$2:$D$11))
E23: =IF(OR(B23="",D23=""),"",IF(B23<=8,INDEX('FPL Guidelines'!$B$2:$D$9,MATCH(B23,'FPL Guidelines'!$A$2:$A$9,0),MATCH(D23,'FPL Guidelines'!$B$1:$D$1,0)),INDEX('FPL Guidelines'!$B$2:$D$9,8,MATCH(D23,'FPL Guidelines'!$B$1:$D$1,0))+(B23-8)*INDEX('FPL Guidelines'!$B$10:$D$10,1,MATCH(D23,'FPL Guidelines'!$B$1:$D$1,0)))) | F23: =IFERROR(C23/E23*100,"") | G23: =IF(F23="","",LOOKUP(F23,'Fee Schedule'!$A$2:$A$11,'Fee Schedule'!$C$2:$C$11)) | H23: =IF(F23="","",LOOKUP(F23,'Fee Schedule'!$A$2:$A$11,'Fee Schedule'!$D$2:$D$11))
E24: =IF(OR(B24="",D24=""),"",IF(B24<=8,INDEX('FPL Guidelines'!$B$2:$D$9,MATCH(B24,'FPL Guidelines'!$A$2:$A$9,0),MATCH(D24,'FPL Guidelines'!$B$1:$D$1,0)),INDEX('FPL Guidelines'!$B$2:$D$9,8,MATCH(D24,'FPL Guidelines'!$B$1:$D$1,0))+(B24-8)*INDEX('FPL Guidelines'!$B$10:$D$10,1,MATCH(D24,'FPL Guidelines'!$B$1:$D$1,0)))) | F24: =IFERROR(C24/E24*100,"") | G24: =IF(F24="","",LOOKUP(F24,'Fee Schedule'!$A$2:$A$11,'Fee Schedule'!$C$2:$C$11)) | H24: =IF(F24="","",LOOKUP(F24,'Fee Schedule'!$A$2:$A$11,'Fee Schedule'!$D$2:$D$11))
E25: =IF(OR(B25="",D25=""),"",IF(B25<=8,INDEX('FPL Guidelines'!$B$2:$D$9,MATCH(B25,'FPL Guidelines'!$A$2:$A$9,0),MATCH(D25,'FPL Guidelines'!$B$1:$D$1,0)),INDEX('FPL Guidelines'!$B$2:$D$9,8,MATCH(D25,'FPL Guidelines'!$B$1:$D$1,0))+(B25-8)*INDEX('FPL Guidelines'!$B$10:$D$10,1,MATCH(D25,'FPL Guidelines'!$B$1:$D$1,0)))) | F25: =IFERROR(C25/E25*100,"") | G25: =IF(F25="","",LOOKUP(F25,'Fee Schedule'!$A$2:$A$11,'Fee Schedule'!$C$2:$C$11)) | H25: =IF(F25="","",LOOKUP(F25,'Fee Schedule'!$A$2:$A$11,'Fee Schedule'!$D$2:$D$11))
E26: =IF(OR(B26="",D26=""),"",IF(B26<=8,INDEX('FPL Guidelines'!$B$2:$D$9,MATCH(B26,'FPL Guidelines'!$A$2:$A$9,0),MATCH(D26,'FPL Guidelines'!$B$1:$D$1,0)),INDEX('FPL Guidelines'!$B$2:$D$9,8,MATCH(D26,'FPL Guidelines'!$B$1:$D$1,0))+(B26-8)*INDEX('FPL Guidelines'!$B$10:$D$10,1,MATCH(D26,'FPL Guidelines'!$B$1:$D$1,0)))) | F26: =IFERROR(C26/E26*100,"") | G26: =IF(F26="","",LOOKUP(F26,'Fee Schedule'!$A$2:$A$11,'Fee Schedule'!$C$2:$C$11)) | H26: =IF(F26="","",LOOKUP(F26,'Fee Schedule'!$A$2:$A$11,'Fee Schedule'!$D$2:$D$11))
... E64: =IF(OR(B64="",D64=""),"",IF(B64<=8,INDEX('FPL Guidelines'!$B$2:$D$9,MATCH(B64,'FPL Guidelines'!$A$2:$A$9,0),MATCH(D64,'FPL Guidelines'!$B$1:$D$1,0)),INDEX('FPL Guidelines'!$B$2:$D$9,8,MATCH(D64,'FPL Guidelines'!$B$1:$D$1,0))+(B64-8)*INDEX('FPL Guidelines'!$B$10:$D$10,1,MATCH(D64,'FPL Guidelines'!$B$1:$D$1,0)))) | F64: =IFERROR(C64/E64*100,"") | G64: =IF(F64="","",LOOKUP(F64,'Fee Schedule'!$A$2:$A$11,'Fee Schedule'!$C$2:$C$11)) | H64: =IF(F64="","",LOOKUP(F64,'Fee Schedule'!$A$2:$A$11,'Fee Schedule'!$D$2:$D$11))

Sheet FPL Guidelines
A1: Household Size | B1: 48 Contiguous States & DC | C1: Alaska | D1: Hawaii
A2: 1 | B2: 15960 | C2: 19950 | D2: 18360
A3: 2 | B3: 21640 | C3: 27050 | D3: 24890
A4: 3 | B4: 27320 | C4: 34150 | D4: 31420
A5: 4 | B5: 33000 | C5: 41250 | D5: 37950
A6: 5 | B6: 38680 | C6: 48350 | D6: 44480
A7: 6 | B7: 44360 | C7: 55450 | D7: 51010
A8: 7 | B8: 50040 | C8: 62550 | D8: 57540
A9: 8 | B9: 55720 | C9: 69650 | D9: 64070
A10: Additional person over 8 | B10: 5680 | C10: 7100 | D10: 6530
A12: Notes
A13: Default year | B13: 2026
A14: Source | B14: https://aspe.hhs.gov/topics/poverty-economic-mobility/poverty-guidelines
A15: Reminder | B15: Update these values annually before calculating client fees.

Sheet Fee Schedule
A1: Minimum FPL % | B1: Maximum FPL % | C1: FPL Bracket | D1: Fee
A2: 0 | B2: 100 | C2: 100% FPL or below | D2: 25
A3: 101 | B3: 125 | C3: 101-125% FPL | D3: 35
A4: 126 | B4: 150 | C4: 126-150% FPL | D4: 45
A5: 151 | B5: 175 | C5: 151-175% FPL | D5: 55
A6: 176 | B6: 200 | C6: 176-200% FPL | D6: 65
A7: 201 | B7: 225 | C7: 201-225% FPL | D7: 75
A8: 226 | B8: 250 | C8: 226-250% FPL | D8: 85
A9: 251 | B9: 275 | C9: 251-275% FPL | D9: 95
A10: 276 | B10: 300 | C10: 276-300% FPL | D10: 105
A11: 301 | B11: 999999 | C11: 301%+ FPL | D11: 125

Sheet Notes
A1: Workbook Notes
A2: Purpose | B2: Use the Calculator sheet to estimate a client’s FPL percentage and sliding scale session fee.
A3: Fee source | B3: The uploaded Counseling Sliding Scale Fees Chart uses fee brackets from 100% FPL through 301%+ FPL, with fees ranging from $10 to $100.
A4: FPL source | B4: Default FPL guideline amounts are 2026 HHS poverty guidelines. Update the FPL Guidelines sheet annually.
A5: Official FPL URL | B5: https://aspe.hhs.gov/topics/poverty-economic-mobility/poverty-guidelines
A6: Healthcare.gov FPL URL | B6: https://www.healthcare.gov/glossary/federal-poverty-level-fpl/
A7: Uploaded chart note | B7: The uploaded chart states that FPL guidelines are subject to annual change and documentation of income is required.
